BEGIN:VCALENDAR
VERSION:2.0
PRODID:-//eventon.com NONSGML v1.0//EN
CALSCALE:GREGORIAN
METHOD:PUBLISH
BEGIN:VEVENT
UID:69eb72e9b11fc
DTSTAMP:20260424T154057
DTSTART:20260613T110000Z
DTEND:20260613T180000Z
TZID:UTC
LOCATION:
SUMMARY:Tasting Day
DESCRIPTION:[TASTING DAY] Amateurs de vins\,  spiritueux et bières\,  ne manquez pas notre journée découverte &amp; dégustation gratuite ! La boutique de Saint Gély du Fesc vous donne rendez-vous le samedi 13 juin de 11h à 18h. Une occasion de rencontrer les producteurs présents pour échanger autour de leurs produits et[..]\nhttps://cellierdupic.fr/events/tasting-day-3/
URL:https://cellierdupic.fr/events/tasting-day-3/
END:VEVENT
END:VCALENDAR