BEGIN:VCALENDAR
VERSION:2.0
PRODID:-//eventon.com NONSGML v1.0//EN
CALSCALE:GREGORIAN
METHOD:PUBLISH
BEGIN:VEVENT
UID:69eb7469e7f17
DTSTAMP:20260424T154721
DTSTART:20260522T190000Z
DTEND:20260522T230000Z
TZID:UTC
LOCATION:
SUMMARY:After Work
DESCRIPTION:L&rsquo;After Work revient ! Le vendredi 22 mai\,  rendez-vous dès 19h00 à la boutique de Saint-Gély-du-Fesc pour une soirée #afterwork ! Au programme : dégustation de vins\,  foodtruck et animation musicale ! 2 avenue du Pic Saint Loup\,  34980\,  SAINT-GÉLY-DU-FESC. Sans Réservation &#8211; Pour toutes questions\,  vous pouvez nous joindre[..]\nhttps://cellierdupic.fr/events/after-work-3/
URL:https://cellierdupic.fr/events/after-work-3/
END:VEVENT
END:VCALENDAR