BEGIN:VCALENDAR
VERSION:2.0
PRODID:-//eventon.com NONSGML v1.0//EN
CALSCALE:GREGORIAN
METHOD:PUBLISH
BEGIN:VEVENT
UID:69eb735f5bd7c
DTSTAMP:20260424T154255
DTSTART:20260424T183000Z
DTEND:20260424T203000Z
TZID:UTC
LOCATION:
SUMMARY:Vernissage X Philippe Thelier
DESCRIPTION:La boutique de Baillargues vous invite à découvrir l’artiste Philippe Thelier\,  à l’occasion d’un vernissage\,  le vendredi 24 avril à partir de 18h30.  Retrouvez nous pour un moment convivial\,  avec au programme exposition artistique\,  dégustation de vins et apéritif dînatoire. Au plaisir de vous y retrouver.  2 rue Jean Vilar\, [..]\nhttps://cellierdupic.fr/events/vernissage-x-philippe-thelier/
URL:https://cellierdupic.fr/events/vernissage-x-philippe-thelier/
END:VEVENT
END:VCALENDAR