BEGIN:VCALENDAR
VERSION:2.0
PRODID:-//eventon.com NONSGML v1.0//EN
CALSCALE:GREGORIAN
METHOD:PUBLISH
BEGIN:VEVENT
UID:69eb74cb4e506
DTSTAMP:20260424T154859
DTSTART:20260403T170000Z
DTEND:20260403T213000Z
TZID:UTC
LOCATION:
SUMMARY:Tasting Day
DESCRIPTION:Le Tasting Day de Printemps est de retour à la boutique de Baillargues !  Au programme :  Dégustations de vins locaux et de régions françaises  Dégustations de spiritueux (rhums\,  liqueurs)  Dégustations de bières locales  Rencontres avec les producteurs   Quizz avec de nombreux lots à gagner   Des remises de 10% appliquées sur[..]\nhttps://cellierdupic.fr/events/tasting-day-2/
URL:https://cellierdupic.fr/events/tasting-day-2/
END:VEVENT
END:VCALENDAR